BEGIN:VCALENDAR
VERSION:2.0
PRODID:-//Battenberg Pfalz - ECPv6.15.20//NONSGML v1.0//EN
CALSCALE:GREGORIAN
METHOD:PUBLISH
X-WR-CALNAME:Battenberg Pfalz
X-ORIGINAL-URL:https://www.battenberg-pfalz.de
X-WR-CALDESC:Veranstaltungen für Battenberg Pfalz
REFRESH-INTERVAL;VALUE=DURATION:PT1H
X-Robots-Tag:noindex
X-PUBLISHED-TTL:PT1H
BEGIN:VTIMEZONE
TZID:Europe/Berlin
BEGIN:DAYLIGHT
TZOFFSETFROM:+0100
TZOFFSETTO:+0200
TZNAME:CEST
DTSTART:20250330T010000
END:DAYLIGHT
BEGIN:STANDARD
TZOFFSETFROM:+0200
TZOFFSETTO:+0100
TZNAME:CET
DTSTART:20251026T010000
END:STANDARD
BEGIN:DAYLIGHT
TZOFFSETFROM:+0100
TZOFFSETTO:+0200
TZNAME:CEST
DTSTART:20260329T010000
END:DAYLIGHT
BEGIN:STANDARD
TZOFFSETFROM:+0200
TZOFFSETTO:+0100
TZNAME:CET
DTSTART:20261025T010000
END:STANDARD
BEGIN:DAYLIGHT
TZOFFSETFROM:+0100
TZOFFSETTO:+0200
TZNAME:CEST
DTSTART:20270328T010000
END:DAYLIGHT
BEGIN:STANDARD
TZOFFSETFROM:+0200
TZOFFSETTO:+0100
TZNAME:CET
DTSTART:20271031T010000
END:STANDARD
END:VTIMEZONE
BEGIN:VEVENT
DTSTART;TZID=Europe/Berlin:20260814T190000
DTEND;TZID=Europe/Berlin:20260814T190000
DTSTAMP:20260425T165929
CREATED:20260121T140912Z
LAST-MODIFIED:20260121T140912Z
UID:2684-1786734000-1786734000@www.battenberg-pfalz.de
SUMMARY:Kneipp-Treffen
DESCRIPTION:Mitglieder und Freunde treffen sich bei gutem Wetter am zweiten Freitag im Monat in der Kneipp-Anlage zum Kneippen und gemütlichen Beisammensein
URL:https://www.battenberg-pfalz.de/event/kneipp-treffen-3/
END:VEVENT
END:VCALENDAR