BEGIN:VCALENDAR
VERSION:2.0
PRODID:-//Battenberg Pfalz - ECPv6.15.20//NONSGML v1.0//EN
CALSCALE:GREGORIAN
METHOD:PUBLISH
X-ORIGINAL-URL:https://www.battenberg-pfalz.de
X-WR-CALDESC:Veranstaltungen für Battenberg Pfalz
REFRESH-INTERVAL;VALUE=DURATION:PT1H
X-Robots-Tag:noindex
X-PUBLISHED-TTL:PT1H
BEGIN:VTIMEZONE
TZID:Europe/Berlin
BEGIN:DAYLIGHT
TZOFFSETFROM:+0100
TZOFFSETTO:+0200
TZNAME:CEST
DTSTART:20250330T010000
END:DAYLIGHT
BEGIN:STANDARD
TZOFFSETFROM:+0200
TZOFFSETTO:+0100
TZNAME:CET
DTSTART:20251026T010000
END:STANDARD
BEGIN:DAYLIGHT
TZOFFSETFROM:+0100
TZOFFSETTO:+0200
TZNAME:CEST
DTSTART:20260329T010000
END:DAYLIGHT
BEGIN:STANDARD
TZOFFSETFROM:+0200
TZOFFSETTO:+0100
TZNAME:CET
DTSTART:20261025T010000
END:STANDARD
BEGIN:DAYLIGHT
TZOFFSETFROM:+0100
TZOFFSETTO:+0200
TZNAME:CEST
DTSTART:20270328T010000
END:DAYLIGHT
BEGIN:STANDARD
TZOFFSETFROM:+0200
TZOFFSETTO:+0100
TZNAME:CET
DTSTART:20271031T010000
END:STANDARD
END:VTIMEZONE
BEGIN:VEVENT
DTSTART;TZID=Europe/Berlin:20260315T110000
DTEND;TZID=Europe/Berlin:20260315T110000
DTSTAMP:20260421T123114
CREATED:20260226T101601Z
LAST-MODIFIED:20260226T101710Z
UID:3152-1773572400-1773572400@www.battenberg-pfalz.de
SUMMARY:Winterverbrennung
DESCRIPTION:Wir treffen uns zur jährlichen Winterverbrennung um 11:00 Uhr am Dorfgemeinschaftshaus Battenberg. Von dort aus geht es zusammen an den Bolzplatz\, um den Winter zu verbrennen. \nDie Ortsgemeinde und die freiwillige Feuerwehr Battenberg freuen sich auf Euer Kommen.
URL:https://www.battenberg-pfalz.de/event/winterverbrennung/
END:VEVENT
BEGIN:VEVENT
DTSTART;TZID=Europe/Berlin:20260321T083000
DTEND;TZID=Europe/Berlin:20260321T123000
DTSTAMP:20260421T123114
CREATED:20260317T150102Z
LAST-MODIFIED:20260317T150337Z
UID:3183-1774081800-1774096200@www.battenberg-pfalz.de
SUMMARY:Obstbaumschnittkurs in Battenberg
DESCRIPTION:Die Gemeinde Battenberg lädt herzlich zu einem praxisnahen Obstbaumschnittkurs ein. Der Kurs findet an zwei Terminen statt: am 21. März und 11. April\, jeweils von 8:30 bis 12:30 Uhr\, auf den Ausgleichsflächen der Gemeinde Battenberg. \n  \nUnter der fachkundigen Anleitung von Herrn Klemmer der Firma Arborcurix\, einem erfahrenen Fachmann im Obstbaumschnitt\, erhalten die Teilnehmenden wertvolle theoretische Grundlagen und vor allem praktische Einblicke in den fachgerechten Schnitt von Obstbäumen. Ziel des Kurses ist es\, die Gesundheit\, Vitalität und den Ertrag der Bäume langfristig zu fördern. \n  \nDie Teilnehmerzahl ist auf 10 Personen pro Kurs begrenzt. Für die Verpflegung wird ein Unkostenbeitrag von 10 € erhoben. \nFür Battenberger Bürgerinnen und Bürger ist der Kurs ansonsten kostenfrei. \n  \nWer möchte\, kann auch über die Kurszeit hinaus bleiben\, da Herr Klemmer an beiden Tagen bis 16:00 Uhr vor Ort ist und weitere Schnittarbeiten durchführt. \n  \nAnmeldung: \nDie Anmeldung erfolgt über den Ortsbürgermeister Eric Bach. \nBei freien Plätzen können auch Bürgerinnen und Bürger der umliegenden Gemeinden teilnehmen. \n  \nDer Kurs richtet sich an alle Interessierten – egal ob Anfänger oder mit Vorkenntnissen – die ihr Wissen rund um den Obstbaumschnitt vertiefen und praktisch anwenden möchten \n  \nHinweis: \nDer Termin am 21.03 ist bereits ausgebucht. \nFür den 11.04 gibt es noch wenige Plätze.
URL:https://www.battenberg-pfalz.de/event/obstbaumschnittkurs-in-battenberg/
END:VEVENT
END:VCALENDAR